{
 "currentVersion": 11.3,
 "serviceDescription": "Metadata: Identification_Information: Citation: Citation_Information: Originator: USDA-FPAC-BC-APFO Aerial Photography Field Office Title: NAIP Digital Georectified Image Geospatial_Data_Presentation_Form: remote-sensing image Publication_Information: Publication_Place: Salt Lake City, Utah Publisher: USDA-FPAC-BC-APFO Aerial Photography Field Office Time_Period_of_Content: Time_Period_Information: Single_Date/Time: Calendar_Date: 20210912 Currentness_Reference: Ground Condition",
 "name": "GIS410/NAIP_m_3707643_sw_18_060_20210912",
 "description": "Metadata: Identification_Information: Citation: Citation_Information: Originator: USDA-FPAC-BC-APFO Aerial Photography Field Office Title: NAIP Digital Georectified Image Geospatial_Data_Presentation_Form: remote-sensing image Publication_Information: Publication_Place: Salt Lake City, Utah Publisher: USDA-FPAC-BC-APFO Aerial Photography Field Office Time_Period_of_Content: Time_Period_Information: Single_Date/Time: Calendar_Date: 20210912 Currentness_Reference: Ground Condition",
 "extent": {
  "xmin": 344497.8,
  "ymin": 4123639.2,
  "xmax": 350809.8,
  "ymax": 4131330.6,
  "spatialReference": {
   "wkid": 26918,
   "latestWkid": 26918
  }
 },
 "initialExtent": {
  "xmin": 344497.8,
  "ymin": 4123639.2,
  "xmax": 350809.8,
  "ymax": 4131330.6,
  "spatialReference": {
   "wkid": 26918,
   "latestWkid": 26918
  }
 },
 "fullExtent": {
  "xmin": 344497.8,
  "ymin": 4123639.2,
  "xmax": 350809.8,
  "ymax": 4131330.6,
  "spatialReference": {
   "wkid": 26918,
   "latestWkid": 26918
  }
 },
 "sortableFields": "",
 "bandCount": 4,
 "pixelType": "U8",
 "minValues": [
  22,
  30,
  28,
  13
 ],
 "maxValues": [
  255,
  255,
  255,
  255
 ],
 "meanValues": [
  95.893633099263,
  107.77591714949,
  93.111214891066,
  113.371984833
 ],
 "stdvValues": [
  34.844089259001,
  33.68341292578,
  27.784295457267,
  45.854519631554
 ],
 "hasMultidimensions": false,
 "pixelSizeX": 0.6,
 "pixelSizeY": 0.5999999999999928,
 "meanPixelSize": 0.5999999999999963,
 "datasetFormat": "TIFF",
 "uncompressedSize": 539423520,
 "blockWidth": 10520,
 "blockHeight": 1,
 "compressionType": "None",
 "bandNames": [
  "Band_1",
  "Band_2",
  "Band_3",
  "Band_4"
 ],
 "allowCopy": true,
 "allowAnalysis": true,
 "itemAccess": false,
 "inspectionCapabilities": "",
 "minPixelSize": 0,
 "maxPixelSize": 0,
 "copyrightText": "United States Department of Agriculture (USDA) National Agriculture Imagery Program (NAIP)",
 "serviceDataType": "esriImageServiceDataTypeGeneric",
 "serviceSourceType": "esriImageServiceSourceTypeDataset",
 "objectIdField": "",
 "fields": [],
 "capabilities": "Mensuration,Image,Metadata",
 "defaultMosaicMethod": "Center",
 "allowedMosaicMethods": "",
 "sortField": "",
 "sortValue": null,
 "sortAscending": true,
 "mosaicOperator": "First",
 "defaultCompressionQuality": 75,
 "defaultResamplingMethod": "Bilinear",
 "maxImageHeight": 4100,
 "maxImageWidth": 15000,
 "allowRasterFunction": true,
 "rasterFunctionInfos": [
  {
   "name": "None",
   "description": "",
   "help": ""
  }
 ],
 "rasterTypeInfos": [
  {
   "name": "Raster Dataset",
   "description": "Supports all ArcGIS Raster Datasets",
   "help": ""
  }
 ],
 "mensurationCapabilities": "Basic",
 "hasHistograms": true,
 "hasColormap": false,
 "hasRasterAttributeTable": false,
 "minScale": 0,
 "maxScale": 0,
 "exportTilesAllowed": false,
 "supportsStatistics": false,
 "supportsAdvancedQueries": false,
 "editFieldsInfo": null,
 "ownershipBasedAccessControlForRasters": null,
 "allowComputeTiePoints": false,
 "useStandardizedQueries": true,
 "advancedQueryCapabilities": {
  "useStandardizedQueries": true,
  "supportsStatistics": false,
  "supportsOrderBy": false,
  "supportsDistinct": false,
  "supportsPagination": false
 },
 "spatialReference": {
  "wkid": 26918,
  "latestWkid": 26918
 }
}
