{
 "currentVersion": 11.3,
 "serviceDescription": "The National Agriculture Imagery Program (NAIP) acquires aerial imagery during the agricultural growing seasons in the continental U.S. A primary goal of the NAIP program is to make digital ortho photography available to governmental agencies and the public within a year of acquisition. USDA-FPAC-BC-APFO Aerial Photography Field Office Title: NAIP Digital Georectified Image Calendar_Date: 20211010 Currentness_Reference: Ground Condition",
 "name": "GIS410/NAIP_m_3707643_sw_18_060_20231010",
 "description": "The National Agriculture Imagery Program (NAIP) acquires aerial imagery during the agricultural growing seasons in the continental U.S. A primary goal of the NAIP program is to make digital ortho photography available to governmental agencies and the public within a year of acquisition. USDA-FPAC-BC-APFO Aerial Photography Field Office Title: NAIP Digital Georectified Image Calendar_Date: 20211010 Currentness_Reference: Ground Condition",
 "extent": {
  "xmin": 344598,
  "ymin": 4123740,
  "xmax": 350664,
  "ymax": 4131174,
  "spatialReference": {
   "wkid": 26918,
   "latestWkid": 26918
  }
 },
 "initialExtent": {
  "xmin": 344598,
  "ymin": 4123740,
  "xmax": 350664,
  "ymax": 4131174,
  "spatialReference": {
   "wkid": 26918,
   "latestWkid": 26918
  }
 },
 "fullExtent": {
  "xmin": 344598,
  "ymin": 4123740,
  "xmax": 350664,
  "ymax": 4131174,
  "spatialReference": {
   "wkid": 26918,
   "latestWkid": 26918
  }
 },
 "sortableFields": "",
 "bandCount": 4,
 "pixelType": "U8",
 "minValues": [
  1,
  20,
  3,
  1
 ],
 "maxValues": [
  255,
  255,
  255,
  250
 ],
 "meanValues": [
  106.06781719088,
  115.65020103321,
  105.14575707574,
  168.95643603978
 ],
 "stdvValues": [
  48.226319686705,
  44.827626232391,
  35.287547365451,
  49.036013035509
 ],
 "hasMultidimensions": false,
 "pixelSizeX": 0.6,
 "pixelSizeY": 0.6,
 "meanPixelSize": 0.6,
 "datasetFormat": "TIFF",
 "uncompressedSize": 501051600,
 "blockWidth": 10110,
 "blockHeight": 1,
 "compressionType": "None",
 "bandNames": [
  "Band_1",
  "Band_2",
  "Band_3",
  "Band_4"
 ],
 "allowCopy": true,
 "allowAnalysis": true,
 "itemAccess": false,
 "inspectionCapabilities": "",
 "minPixelSize": 0,
 "maxPixelSize": 0,
 "copyrightText": "United States Department of Agriculture (USDA) National Agriculture Imagery Program (NAIP)",
 "serviceDataType": "esriImageServiceDataTypeGeneric",
 "serviceSourceType": "esriImageServiceSourceTypeDataset",
 "objectIdField": "",
 "fields": [],
 "capabilities": "Mensuration,Image,Metadata",
 "defaultMosaicMethod": "Center",
 "allowedMosaicMethods": "",
 "sortField": "",
 "sortValue": null,
 "sortAscending": true,
 "mosaicOperator": "First",
 "defaultCompressionQuality": 75,
 "defaultResamplingMethod": "Bilinear",
 "maxImageHeight": 4100,
 "maxImageWidth": 15000,
 "allowRasterFunction": true,
 "rasterFunctionInfos": [
  {
   "name": "None",
   "description": "",
   "help": ""
  }
 ],
 "rasterTypeInfos": [
  {
   "name": "Raster Dataset",
   "description": "Supports all ArcGIS Raster Datasets",
   "help": ""
  }
 ],
 "mensurationCapabilities": "Basic",
 "hasHistograms": true,
 "hasColormap": false,
 "hasRasterAttributeTable": false,
 "minScale": 0,
 "maxScale": 0,
 "exportTilesAllowed": false,
 "supportsStatistics": false,
 "supportsAdvancedQueries": false,
 "editFieldsInfo": null,
 "ownershipBasedAccessControlForRasters": null,
 "allowComputeTiePoints": false,
 "useStandardizedQueries": true,
 "advancedQueryCapabilities": {
  "useStandardizedQueries": true,
  "supportsStatistics": false,
  "supportsOrderBy": false,
  "supportsDistinct": false,
  "supportsPagination": false
 },
 "spatialReference": {
  "wkid": 26918,
  "latestWkid": 26918
 },
 "resampling": false
}
