{
 "currentVersion": 11.3,
 "serviceDescription": "\nThis imagery is six-inch four band leaf-off imagery flown in the spring of 2017 as part of the Virginia Base Mapping Program (VBMP) orthoimagery. It is made available here for teaching purposes and should not be relied upon for other purposes. \n\nPlease contact us at cga@wm.edu for questions about the service.\n\nVisit the Virginia Geographic Information Network (VGIN) Clearinghouse at https://vgin.maps.arcgis.com/ for more information about the imagery and access to multiple years of Commonwealth-wide imagery. \n\nTitle 54.1 section 402 of the Code of Virginia (https://law.lis.virginia.gov/vacode/54.1-402/) notes that:\nC. Persons utilizing photogrammetric methods or similar remote sensing technology shall not be required to be licensed as a land surveyor pursuant to subsection B of ยง 54.1-404 or 54.1-406 to: (i) determine topography or contours, or to depict physical improvements, provided such maps or other documents shall not be used for the design, modification, or construction of improvements to real property or for flood plain determination, or (ii) graphically show existing property lines and boundaries on maps or other documents provided such depicted property lines and boundaries shall only be used for general information.\n\nAny determination of topography or contours, or depiction of physical improvements, utilizing photogrammetric methods or similar remote sensing technology by persons not licensed as a land surveyor pursuant to ยง 54.1-406 shall not show any property monumentation or property metes and bounds, nor provide any measurement showing the relationship of any physical improvements to any property line or boundary.\n\nAny person not licensed pursuant to subsection B of ยง 54.1-404 or 54.1-406 preparing documentation pursuant to subsection C of ยง 54.1-402 shall note the following on such documentation: \"Any determination of topography or contours, or any depiction of physical improvements, property lines or boundaries is for general information only and shall not be used for the design, modification, or construction of improvements to real property or for flood plain determination.\"\nImage service is intended for teaching purposes and should not be relied upon for other purposes.",
 "name": "GIS410/VBMP_Ortho_2017",
 "description": "\nThis imagery is six-inch four band leaf-off imagery flown in the spring of 2017 as part of the Virginia Base Mapping Program (VBMP) orthoimagery. It is made available here for teaching purposes and should not be relied upon for other purposes. \n\nPlease contact us at cga@wm.edu for questions about the service.\n\nVisit the Virginia Geographic Information Network (VGIN) Clearinghouse at https://vgin.maps.arcgis.com/ for more information about the imagery and access to multiple years of Commonwealth-wide imagery. \n\nTitle 54.1 section 402 of the Code of Virginia (https://law.lis.virginia.gov/vacode/54.1-402/) notes that:\nC. Persons utilizing photogrammetric methods or similar remote sensing technology shall not be required to be licensed as a land surveyor pursuant to subsection B of ยง 54.1-404 or 54.1-406 to: (i) determine topography or contours, or to depict physical improvements, provided such maps or other documents shall not be used for the design, modification, or construction of improvements to real property or for flood plain determination, or (ii) graphically show existing property lines and boundaries on maps or other documents provided such depicted property lines and boundaries shall only be used for general information.\n\nAny determination of topography or contours, or depiction of physical improvements, utilizing photogrammetric methods or similar remote sensing technology by persons not licensed as a land surveyor pursuant to ยง 54.1-406 shall not show any property monumentation or property metes and bounds, nor provide any measurement showing the relationship of any physical improvements to any property line or boundary.\n\nAny person not licensed pursuant to subsection B of ยง 54.1-404 or 54.1-406 preparing documentation pursuant to subsection C of ยง 54.1-402 shall note the following on such documentation: \"Any determination of topography or contours, or any depiction of physical improvements, property lines or boundaries is for general information only and shall not be used for the design, modification, or construction of improvements to real property or for flood plain determination.\"\nImage service is intended for teaching purposes and should not be relied upon for other purposes.",
 "extent": {
  "xmin": 1.2000000074841917E7,
  "ymin": 3624999.758937001,
  "xmax": 1.2010000074841917E7,
  "ymax": 3629999.758937001,
  "spatialReference": {
   "wkid": 2925,
   "latestWkid": 2925
  }
 },
 "initialExtent": {
  "xmin": 1.2000000074841917E7,
  "ymin": 3624999.758937001,
  "xmax": 1.2010000074841917E7,
  "ymax": 3629999.758937001,
  "spatialReference": {
   "wkid": 2925,
   "latestWkid": 2925
  }
 },
 "fullExtent": {
  "xmin": 1.2000000074841917E7,
  "ymin": 3624999.758937001,
  "xmax": 1.2010000074841917E7,
  "ymax": 3629999.758937001,
  "spatialReference": {
   "wkid": 2925,
   "latestWkid": 2925
  }
 },
 "sortableFields": "",
 "bandCount": 4,
 "pixelType": "U8",
 "minValues": [
  0,
  0,
  0,
  0
 ],
 "maxValues": [
  255,
  255,
  255,
  255
 ],
 "meanValues": [
  75.779524655,
  81.88113559,
  73.06499715,
  124.325651535
 ],
 "stdvValues": [
  48.14191590169078,
  44.478429801463186,
  40.541885822920406,
  46.96070456849312
 ],
 "hasMultidimensions": false,
 "pixelSizeX": 0.5,
 "pixelSizeY": 0.5,
 "meanPixelSize": 0.15240030480060962,
 "datasetFormat": "FGDBR",
 "uncompressedSize": 800000000,
 "blockWidth": 128,
 "blockHeight": 128,
 "compressionType": "LZ77",
 "bandNames": [
  "Band_1",
  "Band_2",
  "Band_3",
  "Band_4"
 ],
 "allowCopy": true,
 "allowAnalysis": true,
 "itemAccess": false,
 "inspectionCapabilities": "",
 "minPixelSize": 0,
 "maxPixelSize": 0,
 "copyrightText": "Virginia Base Mapping Program (VBMP) Orthoimagery",
 "serviceDataType": "esriImageServiceDataTypeGeneric",
 "serviceSourceType": "esriImageServiceSourceTypeDataset",
 "objectIdField": "",
 "fields": [],
 "capabilities": "Mensuration,Image,Metadata",
 "defaultMosaicMethod": "Center",
 "allowedMosaicMethods": "",
 "sortField": "",
 "sortValue": null,
 "sortAscending": true,
 "mosaicOperator": "First",
 "defaultCompressionQuality": 75,
 "defaultResamplingMethod": "Bilinear",
 "maxImageHeight": 4100,
 "maxImageWidth": 15000,
 "allowRasterFunction": true,
 "rasterFunctionInfos": [
  {
   "name": "None",
   "description": "",
   "help": ""
  }
 ],
 "rasterTypeInfos": [
  {
   "name": "Raster Dataset",
   "description": "Supports all ArcGIS Raster Datasets",
   "help": ""
  }
 ],
 "mensurationCapabilities": "Basic",
 "hasHistograms": true,
 "hasColormap": false,
 "hasRasterAttributeTable": false,
 "minScale": 0,
 "maxScale": 0,
 "exportTilesAllowed": false,
 "supportsStatistics": false,
 "supportsAdvancedQueries": false,
 "editFieldsInfo": null,
 "ownershipBasedAccessControlForRasters": null,
 "allowComputeTiePoints": false,
 "useStandardizedQueries": true,
 "advancedQueryCapabilities": {
  "useStandardizedQueries": true,
  "supportsStatistics": false,
  "supportsOrderBy": false,
  "supportsDistinct": false,
  "supportsPagination": false
 },
 "spatialReference": {
  "wkid": 2925,
  "latestWkid": 2925
 }
}
