{
 "currentVersion": 11.3,
 "serviceDescription": "This bare earth elevation model is five-foot cells based on QL1 lidar flown in the spring of 2023 as part of the Virginia Base Mapping Program (VBMP). It is made available here for teaching purposes and should not be relied upon for other purposes. Please contact us at cga@wm.edu for questions about the service. Visit the Virginia Geographic Information Network (VGIN) Clearinghouse at https://vgin.maps.arcgis.com/ for more information about the imagery and access to multiple years of Commonwealth-wide imagery. Title 54.1 section 402 of the Code of Virginia (https://law.lis.virginia.gov/vacode/54.1-402/) notes that: C. Persons utilizing photogrammetric methods or similar remote sensing technology shall not be required to be licensed as a land surveyor pursuant to subsection B of ยง 54.1-404 or 54.1-406 to: (i) determine topography or contours, or to depict physical improvements, provided such maps or other documents shall not be used for the design, modification, or construction of improvements to real property or for flood plain determination, or (ii) graphically show existing property lines and boundaries on maps or other documents provided such depicted property lines and boundaries shall only be used for general information. Any determination of topography or contours, or depiction of physical improvements, utilizing photogrammetric methods or similar remote sensing technology by persons not licensed as a land surveyor pursuant to ยง 54.1-406 shall not show any property monumentation or property metes and bounds, nor provide any measurement showing the relationship of any physical improvements to any property line or boundary. Any person not licensed pursuant to subsection B of ยง 54.1-404 or 54.1-406 preparing documentation pursuant to subsection C of ยง 54.1-402 shall note the following on such documentation: \"Any determination of topography or contours, or any depiction of physical improvements, property lines or boundaries is for general information only and shall not be used for the design, modification, or construction of improvements to real property or for flood plain determination.\" Image service is intended for teaching purposes and should not be relied upon for other purposes.",
 "name": "WMBG_WM/WMCampus_DTM_2023",
 "description": "This bare earth elevation model is five-foot cells based on QL1 lidar flown in the spring of 2023 as part of the Virginia Base Mapping Program (VBMP). It is made available here for teaching purposes and should not be relied upon for other purposes. Please contact us at cga@wm.edu for questions about the service. Visit the Virginia Geographic Information Network (VGIN) Clearinghouse at https://vgin.maps.arcgis.com/ for more information about the imagery and access to multiple years of Commonwealth-wide imagery. Title 54.1 section 402 of the Code of Virginia (https://law.lis.virginia.gov/vacode/54.1-402/) notes that: C. Persons utilizing photogrammetric methods or similar remote sensing technology shall not be required to be licensed as a land surveyor pursuant to subsection B of ยง 54.1-404 or 54.1-406 to: (i) determine topography or contours, or to depict physical improvements, provided such maps or other documents shall not be used for the design, modification, or construction of improvements to real property or for flood plain determination, or (ii) graphically show existing property lines and boundaries on maps or other documents provided such depicted property lines and boundaries shall only be used for general information. Any determination of topography or contours, or depiction of physical improvements, utilizing photogrammetric methods or similar remote sensing technology by persons not licensed as a land surveyor pursuant to ยง 54.1-406 shall not show any property monumentation or property metes and bounds, nor provide any measurement showing the relationship of any physical improvements to any property line or boundary. Any person not licensed pursuant to subsection B of ยง 54.1-404 or 54.1-406 preparing documentation pursuant to subsection C of ยง 54.1-402 shall note the following on such documentation: \"Any determination of topography or contours, or any depiction of physical improvements, property lines or boundaries is for general information only and shall not be used for the design, modification, or construction of improvements to real property or for flood plain determination.\" Image service is intended for teaching purposes and should not be relied upon for other purposes.",
 "extent": {
  "xmin": 1.1992500000039726E7,
  "ymin": 3617500.0001437217,
  "xmax": 1.2067500000039726E7,
  "ymax": 3632500.0001437217,
  "spatialReference": {
   "wkid": 2925,
   "latestWkid": 2925
  }
 },
 "initialExtent": {
  "xmin": 1.1992500000039726E7,
  "ymin": 3617500.0001437217,
  "xmax": 1.2067500000039726E7,
  "ymax": 3632500.0001437217,
  "spatialReference": {
   "wkid": 2925,
   "latestWkid": 2925
  }
 },
 "fullExtent": {
  "xmin": 1.1992500000039726E7,
  "ymin": 3617500.0001437217,
  "xmax": 1.2067500000039726E7,
  "ymax": 3632500.0001437217,
  "spatialReference": {
   "wkid": 2925,
   "latestWkid": 2925
  }
 },
 "sortableFields": "MinPS,MaxPS,LowPS,HighPS,CenterX,CenterY,ZOrder,Shape_Length,Shape_Area",
 "bandCount": 1,
 "pixelType": "F32",
 "minValues": [
  61.50787773728371
 ],
 "maxValues": [
  111.06179389357567
 ],
 "meanValues": [
  92.26494334112978
 ],
 "stdvValues": [
  11.84176067051266
 ],
 "hasMultidimensions": false,
 "pixelSizeX": 5,
 "pixelSizeY": 5,
 "meanPixelSize": 1.5240030480060962,
 "datasetFormat": "AMD",
 "uncompressedSize": 180000000,
 "blockWidth": 2048,
 "blockHeight": 256,
 "compressionType": "None",
 "bandNames": [
  "Band_1"
 ],
 "allowCopy": true,
 "allowAnalysis": true,
 "itemAccess": false,
 "inspectionCapabilities": "",
 "noDataValue": -9999,
 "noDataValues": [
  -9999
 ],
 "minPixelSize": 0,
 "maxPixelSize": 0,
 "copyrightText": "Virginia Base Mapping Program (VBMP); William & Mary",
 "serviceDataType": "esriImageServiceDataTypeGeneric",
 "serviceSourceType": "esriImageServiceSourceTypeMosaicDataset",
 "objectIdField": "OBJECTID",
 "fields": [
  {
   "name": "OBJECTID",
   "type": "esriFieldTypeOID",
   "alias": "OBJECTID",
   "domain": null
  },
  {
   "name": "Shape",
   "type": "esriFieldTypeGeometry",
   "alias": "Shape",
   "domain": null
  },
  {
   "name": "Name",
   "type": "esriFieldTypeString",
   "alias": "Name",
   "domain": null,
   "length": 200
  },
  {
   "name": "MinPS",
   "type": "esriFieldTypeDouble",
   "alias": "MinPS",
   "domain": null
  },
  {
   "name": "MaxPS",
   "type": "esriFieldTypeDouble",
   "alias": "MaxPS",
   "domain": null
  },
  {
   "name": "LowPS",
   "type": "esriFieldTypeDouble",
   "alias": "LowPS",
   "domain": null
  },
  {
   "name": "HighPS",
   "type": "esriFieldTypeDouble",
   "alias": "HighPS",
   "domain": null
  },
  {
   "name": "Category",
   "type": "esriFieldTypeInteger",
   "alias": "Category",
   "domain": {
    "type": "codedValue",
    "name": "MosaicCatalogItemCategoryDomain",
    "description": "Catalog item categories.",
    "codedValues": [
     {
      "name": "Unknown",
      "code": 0
     },
     {
      "name": "Primary",
      "code": 1
     },
     {
      "name": "Overview",
      "code": 2
     },
     {
      "name": "Unprocessed Overview",
      "code": 3
     },
     {
      "name": "Partial Overview",
      "code": 4
     },
     {
      "name": "Inactive",
      "code": 5
     },
     {
      "name": "Uploaded",
      "code": 253
     },
     {
      "name": "Incomplete",
      "code": 254
     },
     {
      "name": "Custom",
      "code": 255
     }
    ],
    "mergePolicy": "esriMPTDefaultValue",
    "splitPolicy": "esriSPTDefaultValue"
   }
  },
  {
   "name": "Tag",
   "type": "esriFieldTypeString",
   "alias": "Tag",
   "domain": null,
   "length": 100
  },
  {
   "name": "GroupName",
   "type": "esriFieldTypeString",
   "alias": "GroupName",
   "domain": null,
   "length": 100
  },
  {
   "name": "ProductName",
   "type": "esriFieldTypeString",
   "alias": "ProductName",
   "domain": null,
   "length": 100
  },
  {
   "name": "CenterX",
   "type": "esriFieldTypeDouble",
   "alias": "CenterX",
   "domain": null
  },
  {
   "name": "CenterY",
   "type": "esriFieldTypeDouble",
   "alias": "CenterY",
   "domain": null
  },
  {
   "name": "ZOrder",
   "type": "esriFieldTypeInteger",
   "alias": "ZOrder",
   "domain": null
  },
  {
   "name": "Shape_Length",
   "type": "esriFieldTypeDouble",
   "alias": "Shape_Length",
   "domain": null
  },
  {
   "name": "Shape_Area",
   "type": "esriFieldTypeDouble",
   "alias": "Shape_Area",
   "domain": null
  }
 ],
 "capabilities": "Catalog,Mensuration,Pixels,Image,Metadata",
 "defaultMosaicMethod": "Northwest",
 "allowedMosaicMethods": "NorthWest,Center,LockRaster,ByAttribute,Nadir,Viewpoint,Seamline,None",
 "sortField": "",
 "sortValue": null,
 "sortAscending": true,
 "mosaicOperator": "First",
 "maxDownloadSizeLimit": 2048,
 "defaultCompressionQuality": 75,
 "defaultResamplingMethod": "Bilinear",
 "maxImageHeight": 4100,
 "maxImageWidth": 15000,
 "maxRecordCount": 1000,
 "maxDownloadImageCount": 20,
 "maxMosaicImageCount": 20,
 "allowRasterFunction": true,
 "rasterFunctionInfos": [
  {
   "name": "None",
   "description": "",
   "help": ""
  }
 ],
 "rasterTypeInfos": [
  {
   "name": "Raster Dataset",
   "description": "Supports all ArcGIS Raster Datasets",
   "help": ""
  }
 ],
 "mensurationCapabilities": "None",
 "hasHistograms": true,
 "hasColormap": false,
 "hasRasterAttributeTable": false,
 "minScale": 0,
 "maxScale": 0,
 "exportTilesAllowed": false,
 "supportsStatistics": true,
 "supportsAdvancedQueries": true,
 "editFieldsInfo": null,
 "ownershipBasedAccessControlForRasters": null,
 "allowComputeTiePoints": false,
 "useStandardizedQueries": true,
 "advancedQueryCapabilities": {
  "useStandardizedQueries": true,
  "supportsStatistics": true,
  "supportsOrderBy": true,
  "supportsDistinct": true,
  "supportsPagination": true
 },
 "spatialReference": {
  "wkid": 2925,
  "latestWkid": 2925
 },
 "resampling": false
}
