View In:
ArcGIS JavaScript
ArcGIS Online Map Viewer
ArcGIS Earth
Service Description: This layer was created to help plan for marine conservation areas off the coast of Namibia. The data set represents the number of endangered sharks and rays that can be found in any 10 meter by 10 meter cell and was derived using the IUCN species range information for each of the individual species (https://www.iucnredlist.org/resources/spatial-data-download). Questions regarding these data can be directed to Robert Rose at rarose01@wm.edu.
Name: CONS/Sharks_Namibia_All_Count_Overlap_Project_Raster_100m
Description: This layer was created to help plan for marine conservation areas off the coast of Namibia. The data set represents the number of endangered sharks and rays that can be found in any 10 meter by 10 meter cell and was derived using the IUCN species range information for each of the individual species (https://www.iucnredlist.org/resources/spatial-data-download). Questions regarding these data can be directed to Robert Rose at rarose01@wm.edu.
Single Fused Map Cache: false
Extent:
XMin: -1544295.0569119367
YMin: -3501510.3945014477
XMax: 206804.94308806327
YMax: -1801210.3945014477
Spatial Reference: 102022
(102022)
Initial Extent:
XMin: -1544295.0569119367
YMin: -3501510.3945014477
XMax: 206804.94308806327
YMax: -1801210.3945014477
Spatial Reference: 102022
(102022)
Full Extent:
XMin: -1544295.0569119367
YMin: -3501510.3945014477
XMax: 206804.94308806327
YMax: -1801210.3945014477
Spatial Reference: 102022
(102022)
Pixel Size X: 100.0
Pixel Size Y: 100.0
Band Count: 1
Pixel Type: U4
RasterFunction Infos: {"rasterFunctionInfos": [{
"name": "None",
"description": "",
"help": ""
}]}
Mensuration Capabilities: Basic
Inspection Capabilities:
Has Histograms: true
Has Colormap: false
Has Multi Dimensions : false
Rendering Rule:
Min Scale: 0
Max Scale: 0
Copyright Text: Data layer was created in June 2021 by Natalie Spage (W&M student). Source data came from the IUCN Red List (https://www.iucnredlist.org/resources/spatial-data-download).
Service Data Type: esriImageServiceDataTypeGeneric
Min Values: 1
Max Values: 14
Mean Values: 3.194698563057701
Standard Deviation Values: 3.4343667893418064
Object ID Field:
Fields:
None
Default Mosaic Method: Center
Allowed Mosaic Methods:
SortField:
SortValue: null
Mosaic Operator: First
Default Compression Quality: 75
Default Resampling Method: Bilinear
Max Record Count: null
Max Image Height: 4100
Max Image Width: 15000
Max Download Image Count: null
Max Mosaic Image Count: null
Allow Raster Function: true
Allow Copy: true
Allow Analysis: true
Allow Compute TiePoints: false
Supports Statistics: false
Supports Advanced Queries: false
Use StandardizedQueries: true
Raster Type Infos:
Name: Raster Dataset
Description: Supports all ArcGIS Raster Datasets
Help:
Has Raster Attribute Table: true
Edit Fields Info: null
Ownership Based AccessControl For Rasters: null
Child Resources:
Info
Raster Attribute Table
Histograms
Statistics
Key Properties
Legend
Raster Function Infos
Supported Operations:
Export Image
Identify
Measure
Compute Histograms
Compute Statistics Histograms
Get Samples
Compute Class Statistics
Query Boundary
Compute Pixel Location
Compute Angles
Validate
Project