View In:
ArcGIS JavaScript
ArcGIS Online Map Viewer
ArcGIS Earth
Service Description: LANDSAT scene containing surface reflectance bands 1 - 7. See: https://www.usgs.gov/faqs/what-are-band-designations-landsat-satellites
Name: GIS410/LANDSAT_LC08_L2SP_023034_20211012_20211019_02_T1_SR
Description: LANDSAT scene containing surface reflectance bands 1 - 7. See: https://www.usgs.gov/faqs/what-are-band-designations-landsat-satellites
Single Fused Map Cache: false
Extent:
XMin: 145485
YMin: 4030785
XMax: 381015
YMax: 4270215
Spatial Reference: 32616
(32616)
Initial Extent:
XMin: 145485
YMin: 4030785
XMax: 381015
YMax: 4270215
Spatial Reference: 32616
(32616)
Full Extent:
XMin: 145485
YMin: 4030785
XMax: 381015
YMax: 4270215
Spatial Reference: 32616
(32616)
Pixel Size X: 30.0
Pixel Size Y: 30.0
Band Count: 7
Pixel Type: U16
RasterFunction Infos: {"rasterFunctionInfos": [{
"name": "None",
"description": "",
"help": ""
}]}
Mensuration Capabilities: Basic
Inspection Capabilities:
Has Histograms: true
Has Colormap: false
Has Multi Dimensions : false
Rendering Rule:
Min Scale: 0
Max Scale: 0
Copyright Text: United States Geological Survey
Service Data Type: esriImageServiceDataTypeGeneric
Min Values: 3, 28, 186, 38, 4027, 6673, 6688
Max Values: 44119, 62127, 46783, 59138, 64483, 65454, 65454
Mean Values: 8306.07041602355, 8510.774355391895, 9349.325763956187, 9418.61507968647, 16259.082304665697, 14632.42393873276, 11454.990724518413
Standard Deviation Values: 577.055808893244, 738.3790317997631, 1005.4322061687662, 1509.7248910266999, 2396.696066097959, 2820.1901620516314, 2400.5582534585383
Object ID Field:
Fields:
None
Default Mosaic Method: Center
Allowed Mosaic Methods:
SortField:
SortValue: null
Mosaic Operator: First
Default Compression Quality: 75
Default Resampling Method: Bilinear
Max Record Count: null
Max Image Height: 4100
Max Image Width: 15000
Max Download Image Count: null
Max Mosaic Image Count: null
Allow Raster Function: true
Allow Copy: true
Allow Analysis: true
Allow Compute TiePoints: false
Supports Statistics: false
Supports Advanced Queries: false
Use StandardizedQueries: true
Raster Type Infos:
Name: Raster Dataset
Description: Supports all ArcGIS Raster Datasets
Help:
Has Raster Attribute Table: false
Edit Fields Info: null
Ownership Based AccessControl For Rasters: null
Child Resources:
Info
Histograms
Statistics
Key Properties
Legend
Raster Function Infos
Supported Operations:
Export Image
Identify
Measure
Compute Histograms
Compute Statistics Histograms
Get Samples
Compute Class Statistics
Query Boundary
Compute Pixel Location
Compute Angles
Validate
Project