View In:
ArcGIS JavaScript
ArcGIS Online Map Viewer
ArcGIS Earth
Service Description: LANDSAT scene containing surface reflectance bands 1 - 7. See: https://www.usgs.gov/faqs/what-are-band-designations-landsat-satellites
Name: GIS410/LANDSAT_LC08_L2SP_023034_20221015_20221021_02_T1_SR
Description: LANDSAT scene containing surface reflectance bands 1 - 7. See: https://www.usgs.gov/faqs/what-are-band-designations-landsat-satellites
Single Fused Map Cache: false
Extent:
XMin: 147285
YMin: 4030785
XMax: 382815
YMax: 4270215
Spatial Reference: 32616
(32616)
Initial Extent:
XMin: 147285
YMin: 4030785
XMax: 382815
YMax: 4270215
Spatial Reference: 32616
(32616)
Full Extent:
XMin: 147285
YMin: 4030785
XMax: 382815
YMax: 4270215
Spatial Reference: 32616
(32616)
Pixel Size X: 30.0
Pixel Size Y: 30.0
Band Count: 7
Pixel Type: U16
RasterFunction Infos: {"rasterFunctionInfos": [{
"name": "None",
"description": "",
"help": ""
}]}
Mensuration Capabilities: Basic
Inspection Capabilities:
Has Histograms: true
Has Colormap: false
Has Multi Dimensions : false
Rendering Rule:
Min Scale: 0
Max Scale: 0
Copyright Text: United States Geological Survey
Service Data Type: esriImageServiceDataTypeGeneric
Min Values: 1, 7, 77, 105, 5838, 6392, 6576
Max Values: 30140, 32436, 35939, 41623, 55590, 65454, 65454
Mean Values: 8537.241774162485, 8912.714824950597, 9996.379160338958, 10709.457312704173, 17340.804450618834, 16180.28466668999, 12568.055174921272
Standard Deviation Values: 858.3688796727783, 1086.4836747907284, 1397.7956394831501, 2188.8877018705134, 2370.5939283111193, 3703.0034362960705, 2976.300838452657
Object ID Field:
Fields:
None
Default Mosaic Method: Center
Allowed Mosaic Methods:
SortField:
SortValue: null
Mosaic Operator: First
Default Compression Quality: 75
Default Resampling Method: Bilinear
Max Record Count: null
Max Image Height: 15000
Max Image Width: 15000
Max Download Image Count: null
Max Mosaic Image Count: null
Allow Raster Function: true
Allow Copy: true
Allow Analysis: true
Allow Compute TiePoints: false
Supports Statistics: false
Supports Advanced Queries: false
Use StandardizedQueries: true
Raster Type Infos:
Name: Raster Dataset
Description: Supports all ArcGIS Raster Datasets
Help:
Has Raster Attribute Table: false
Edit Fields Info: null
Ownership Based AccessControl For Rasters: null
Child Resources:
Info
Histograms
Statistics
Key Properties
Legend
Raster Function Infos
Supported Operations:
Export Image
Identify
Measure
Compute Histograms
Compute Statistics Histograms
Get Samples
Compute Class Statistics
Query Boundary
Compute Pixel Location
Compute Angles
Validate
Project