View In:
ArcGIS JavaScript
ArcGIS Online Map Viewer
ArcGIS Earth
Service Description: Metadata:
Identification_Information:
Citation:
Citation_Information:
Originator: USDA-FSA-APFO Aerial Photography Field Office
Publication_Date: 20141222
Title: NAIP Digital Ortho Photo Image
Geospatial_Data_Presentation_Form: remote-sensing image
Publication_Information:
Publication_Place: Salt Lake City, Utah
Publisher: USDA-FSA-APFO Aerial Photography Field Office
Time_Period_of_Content:
Time_Period_Information:
Single_Date/Time:
Calendar_Date: 20140630
Currentness_Reference: Ground Condition
Name: GIS410/NAIP_m_3707643_sw_18_1_20140630_CNIR
Description: Metadata:
Identification_Information:
Citation:
Citation_Information:
Originator: USDA-FSA-APFO Aerial Photography Field Office
Publication_Date: 20141222
Title: NAIP Digital Ortho Photo Image
Geospatial_Data_Presentation_Form: remote-sensing image
Publication_Information:
Publication_Place: Salt Lake City, Utah
Publisher: USDA-FSA-APFO Aerial Photography Field Office
Time_Period_of_Content:
Time_Period_Information:
Single_Date/Time:
Calendar_Date: 20140630
Currentness_Reference: Ground Condition
Single Fused Map Cache: false
Extent:
XMin: 344496
YMin: 4123640
XMax: 350764
YMax: 4131276
Spatial Reference: 26918
(26918)
Initial Extent:
XMin: 344496
YMin: 4123640
XMax: 350764
YMax: 4131276
Spatial Reference: 26918
(26918)
Full Extent:
XMin: 344496
YMin: 4123640
XMax: 350764
YMax: 4131276
Spatial Reference: 26918
(26918)
Pixel Size X: 1.0
Pixel Size Y: 1.0
Band Count: 4
Pixel Type: U8
RasterFunction Infos: {"rasterFunctionInfos": [{
"name": "None",
"description": "",
"help": ""
}]}
Mensuration Capabilities: Basic
Inspection Capabilities:
Has Histograms: true
Has Colormap: false
Has Multi Dimensions : false
Rendering Rule:
Min Scale: 0
Max Scale: 0
Copyright Text: United States Department of Agriculture (USDA) National Agriculture Imagery Program (NAIP)
Service Data Type: esriImageServiceDataTypeGeneric
Min Values: 51, 52, 102, 15
Max Values: 239, 240, 241, 196
Mean Values: 126.49424400521, 144.76491779106, 152.86634703684, 147.95202614791
Standard Deviation Values: 39.837893949258, 32.439285466813, 23.877624675581, 33.285997238102
Object ID Field:
Fields:
None
Default Mosaic Method: Center
Allowed Mosaic Methods:
SortField:
SortValue: null
Mosaic Operator: First
Default Compression Quality: 75
Default Resampling Method: Bilinear
Max Record Count: null
Max Image Height: 4100
Max Image Width: 15000
Max Download Image Count: null
Max Mosaic Image Count: null
Allow Raster Function: true
Allow Copy: true
Allow Analysis: true
Allow Compute TiePoints: false
Supports Statistics: false
Supports Advanced Queries: false
Use StandardizedQueries: true
Raster Type Infos:
Name: Raster Dataset
Description: Supports all ArcGIS Raster Datasets
Help:
Has Raster Attribute Table: false
Edit Fields Info: null
Ownership Based AccessControl For Rasters: null
Child Resources:
Info
Histograms
Statistics
Key Properties
Legend
Raster Function Infos
Supported Operations:
Export Image
Identify
Measure
Compute Histograms
Compute Statistics Histograms
Get Samples
Compute Class Statistics
Query Boundary
Compute Pixel Location
Compute Angles
Validate
Project