View In:
ArcGIS JavaScript
ArcGIS Online Map Viewer
ArcGIS Earth
Service Description: Metadata:
Identification_Information:
Citation:
Citation_Information:
Originator: USDA-FSA-APFO Aerial Photography Field Office
Publication_Date: 20040408
Title: NAIP Digital Ortho Photo Image
Geospatial_Data_Presentation_Form: remote-sensing image
Publication_Information:
Publication_Place: Salt Lake City, Utah
Publisher: USDA-FSA-APFO Aerial Photography Field Office Time_Period_of_Content:
Time_Period_Information:
Single_Date/Time:
Calendar_Date: 20030610
Currentness_Reference: Ground Condition
Name: GIS410/NAIP_n_3707643_sw_18_1_20030610_CLR
Description: Metadata:
Identification_Information:
Citation:
Citation_Information:
Originator: USDA-FSA-APFO Aerial Photography Field Office
Publication_Date: 20040408
Title: NAIP Digital Ortho Photo Image
Geospatial_Data_Presentation_Form: remote-sensing image
Publication_Information:
Publication_Place: Salt Lake City, Utah
Publisher: USDA-FSA-APFO Aerial Photography Field Office Time_Period_of_Content:
Time_Period_Information:
Single_Date/Time:
Calendar_Date: 20030610
Currentness_Reference: Ground Condition
Single Fused Map Cache: false
Extent:
XMin: 344437
YMin: 4123581
XMax: 350824
YMax: 4131336
Spatial Reference: 26918
(26918)
Initial Extent:
XMin: 344437
YMin: 4123581
XMax: 350824
YMax: 4131336
Spatial Reference: 26918
(26918)
Full Extent:
XMin: 344437
YMin: 4123581
XMax: 350824
YMax: 4131336
Spatial Reference: 26918
(26918)
Pixel Size X: 1.0
Pixel Size Y: 1.0
Band Count: 3
Pixel Type: U8
RasterFunction Infos: {"rasterFunctionInfos": [{
"name": "None",
"description": "",
"help": ""
}]}
Mensuration Capabilities: Basic
Inspection Capabilities:
Has Histograms: true
Has Colormap: false
Has Multi Dimensions : false
Rendering Rule:
Min Scale: 0
Max Scale: 0
Copyright Text: United States Department of Agriculture (USDA) National Agriculture Imagery Program (NAIP)
Service Data Type: esriImageServiceDataTypeRGB
Min Values: 1, 1, 1
Max Values: 254, 254, 254
Mean Values: 99.002130011594, 106.62518835357, 94.983868425513
Standard Deviation Values: 35.251113182775, 31.378814776638, 30.589532498888
Object ID Field:
Fields:
None
Default Mosaic Method: Center
Allowed Mosaic Methods:
SortField:
SortValue: null
Mosaic Operator: First
Default Compression Quality: 75
Default Resampling Method: Bilinear
Max Record Count: null
Max Image Height: 4100
Max Image Width: 15000
Max Download Image Count: null
Max Mosaic Image Count: null
Allow Raster Function: true
Allow Copy: true
Allow Analysis: true
Allow Compute TiePoints: false
Supports Statistics: false
Supports Advanced Queries: false
Use StandardizedQueries: true
Raster Type Infos:
Name: Raster Dataset
Description: Supports all ArcGIS Raster Datasets
Help:
Has Raster Attribute Table: false
Edit Fields Info: null
Ownership Based AccessControl For Rasters: null
Child Resources:
Info
Histograms
Statistics
Key Properties
Legend
Raster Function Infos
Supported Operations:
Export Image
Identify
Measure
Compute Histograms
Compute Statistics Histograms
Get Samples
Compute Class Statistics
Query Boundary
Compute Pixel Location
Compute Angles
Validate
Project