View In:
ArcGIS JavaScript
ArcGIS Online Map Viewer
ArcGIS Earth
Service Description: This imagery is six-inch four band leaf-off imagery flown in the spring of 2021 as part of the Virginia Base Mapping Program (VBMP) orthoimagery. It is made available here for teaching purposes and should not be relied upon for other purposes. Please contact us at cga@wm.edu for questions about the service.
Visit the Virginia Geographic Information Network (VGIN) Clearinghouse at https://vgin.maps.arcgis.com/ for more information about the imagery and access to multiple years of Commonwealth-wide imagery. Title 54.1 section 402 of the Code of Virginia (https://law.lis.virginia.gov/vacode/54.1-402/) notes that:
C. Persons utilizing photogrammetric methods or similar remote sensing technology shall not be required to be licensed as a land surveyor pursuant to subsection B of ยง 54.1-404 or 54.1-406 to: (i) determine topography or contours, or to depict physical improvements, provided such maps or other documents shall not be used for the design, modification, or construction of improvements to real property or for flood plain determination, or (ii) graphically show existing property lines and boundaries on maps or other documents provided such depicted property lines and boundaries shall only be used for general information.
Any determination of topography or contours, or depiction of physical improvements, utilizing photogrammetric methods or similar remote sensing technology by persons not licensed as a land surveyor pursuant to ยง 54.1-406 shall not show any property monumentation or property metes and bounds, nor provide any measurement showing the relationship of any physical improvements to any property line or boundary.
Any person not licensed pursuant to subsection B of ยง 54.1-404 or 54.1-406 preparing documentation pursuant to subsection C of ยง 54.1-402 shall note the following on such documentation: "Any determination of topography or contours, or any depiction of physical improvements, property lines or boundaries is for general information only and shall not be used for the design, modification, or construction of improvements to real property or for flood plain determination."
Image service is intended for teaching purposes and should not be relied upon for other purposes.
Name: GIS410/VBMP_Ortho_2021
Description: This imagery is six-inch four band leaf-off imagery flown in the spring of 2021 as part of the Virginia Base Mapping Program (VBMP) orthoimagery. It is made available here for teaching purposes and should not be relied upon for other purposes. Please contact us at cga@wm.edu for questions about the service.
Visit the Virginia Geographic Information Network (VGIN) Clearinghouse at https://vgin.maps.arcgis.com/ for more information about the imagery and access to multiple years of Commonwealth-wide imagery. Title 54.1 section 402 of the Code of Virginia (https://law.lis.virginia.gov/vacode/54.1-402/) notes that:
C. Persons utilizing photogrammetric methods or similar remote sensing technology shall not be required to be licensed as a land surveyor pursuant to subsection B of ยง 54.1-404 or 54.1-406 to: (i) determine topography or contours, or to depict physical improvements, provided such maps or other documents shall not be used for the design, modification, or construction of improvements to real property or for flood plain determination, or (ii) graphically show existing property lines and boundaries on maps or other documents provided such depicted property lines and boundaries shall only be used for general information.
Any determination of topography or contours, or depiction of physical improvements, utilizing photogrammetric methods or similar remote sensing technology by persons not licensed as a land surveyor pursuant to ยง 54.1-406 shall not show any property monumentation or property metes and bounds, nor provide any measurement showing the relationship of any physical improvements to any property line or boundary.
Any person not licensed pursuant to subsection B of ยง 54.1-404 or 54.1-406 preparing documentation pursuant to subsection C of ยง 54.1-402 shall note the following on such documentation: "Any determination of topography or contours, or any depiction of physical improvements, property lines or boundaries is for general information only and shall not be used for the design, modification, or construction of improvements to real property or for flood plain determination."
Image service is intended for teaching purposes and should not be relied upon for other purposes.
Single Fused Map Cache: false
Extent:
XMin: 1.2000000074841917E7
YMin: 3624999.758937001
XMax: 1.2010000074841917E7
YMax: 3629999.758937001
Spatial Reference: 2925
(2925)
Initial Extent:
XMin: 1.2000000074841917E7
YMin: 3624999.758937001
XMax: 1.2010000074841917E7
YMax: 3629999.758937001
Spatial Reference: 2925
(2925)
Full Extent:
XMin: 1.2000000074841917E7
YMin: 3624999.758937001
XMax: 1.2010000074841917E7
YMax: 3629999.758937001
Spatial Reference: 2925
(2925)
Pixel Size X: 0.5
Pixel Size Y: 0.5
Band Count: 4
Pixel Type: U8
RasterFunction Infos: {"rasterFunctionInfos": [{
"name": "None",
"description": "",
"help": ""
}]}
Mensuration Capabilities: Basic
Inspection Capabilities:
Has Histograms: true
Has Colormap: false
Has Multi Dimensions : false
Rendering Rule:
Min Scale: 0
Max Scale: 0
Resampling: false
Copyright Text: Virginia Base Mapping Program (VBMP) Orthoimagery
Service Data Type: esriImageServiceDataTypeGeneric
Min Values: 1, 4, 13, 1
Max Values: 255, 255, 255, 255
Mean Values: 112.751111805, 114.036809725, 99.08884671, 118.68451682
Standard Deviation Values: 54.988462783751686, 49.84255476267791, 42.394514618858366, 55.04158798046273
Object ID Field:
Fields:
None
Default Mosaic Method: Center
Allowed Mosaic Methods:
SortField:
SortValue: null
Mosaic Operator: First
Default Compression Quality: 75
Default Resampling Method: Bilinear
Max Record Count: null
Max Image Height: 10000
Max Image Width: 20000
Max Download Image Count: null
Max Mosaic Image Count: null
Allow Raster Function: true
Allow Copy: true
Allow Analysis: true
Allow Compute TiePoints: false
Supports Statistics: false
Supports Advanced Queries: false
Use StandardizedQueries: true
Raster Type Infos:
Name: Raster Dataset
Description: Supports all ArcGIS Raster Datasets
Help:
Has Raster Attribute Table: false
Edit Fields Info: null
Ownership Based AccessControl For Rasters: null
Child Resources:
Info
Histograms
Statistics
Key Properties
Legend
Raster Function Infos
Supported Operations:
Export Image
Identify
Measure
Compute Histograms
Compute Statistics Histograms
Get Samples
Compute Class Statistics
Query Boundary
Compute Pixel Location
Compute Angles
Validate
Project