View In:
ArcGIS JavaScript
ArcGIS Online Map Viewer
ArcGIS Earth
Service Description: This imagery is six-inch four band leaf-off imagery flown in the spring of 2023 as part of the Virginia Base Mapping Program (VBMP) orthoimagery. It is made available here for teaching purposes and should not be relied upon for other purposes. Please contact us at cga@wm.edu for questions about the service. Visit the Virginia Geographic Information Network (VGIN) Clearinghouse at https://vgin.maps.arcgis.com/ for more information about the imagery and access to multiple years of Commonwealth-wide imagery. Title 54.1 section 402 of the Code of Virginia (https://law.lis.virginia.gov/vacode/54.1-402/) notes that: C. Persons utilizing photogrammetric methods or similar remote sensing technology shall not be required to be licensed as a land surveyor pursuant to subsection B of ยง 54.1-404 or 54.1-406 to: (i) determine topography or contours, or to depict physical improvements, provided such maps or other documents shall not be used for the design, modification, or construction of improvements to real property or for flood plain determination, or (ii) graphically show existing property lines and boundaries on maps or other documents provided such depicted property lines and boundaries shall only be used for general information. Any determination of topography or contours, or depiction of physical improvements, utilizing photogrammetric methods or similar remote sensing technology by persons not licensed as a land surveyor pursuant to ยง 54.1-406 shall not show any property monumentation or property metes and bounds, nor provide any measurement showing the relationship of any physical improvements to any property line or boundary. Any person not licensed pursuant to subsection B of ยง 54.1-404 or 54.1-406 preparing documentation pursuant to subsection C of ยง 54.1-402 shall note the following on such documentation: "Any determination of topography or contours, or any depiction of physical improvements, property lines or boundaries is for general information only and shall not be used for the design, modification, or construction of improvements to real property or for flood plain determination." Image service is intended for teaching purposes and should not be relied upon for other purposes.
Name: WMBG_WM/WMCampus_Ortho_2023
Description: This imagery is six-inch four band leaf-off imagery flown in the spring of 2023 as part of the Virginia Base Mapping Program (VBMP) orthoimagery. It is made available here for teaching purposes and should not be relied upon for other purposes. Please contact us at cga@wm.edu for questions about the service. Visit the Virginia Geographic Information Network (VGIN) Clearinghouse at https://vgin.maps.arcgis.com/ for more information about the imagery and access to multiple years of Commonwealth-wide imagery. Title 54.1 section 402 of the Code of Virginia (https://law.lis.virginia.gov/vacode/54.1-402/) notes that: C. Persons utilizing photogrammetric methods or similar remote sensing technology shall not be required to be licensed as a land surveyor pursuant to subsection B of ยง 54.1-404 or 54.1-406 to: (i) determine topography or contours, or to depict physical improvements, provided such maps or other documents shall not be used for the design, modification, or construction of improvements to real property or for flood plain determination, or (ii) graphically show existing property lines and boundaries on maps or other documents provided such depicted property lines and boundaries shall only be used for general information. Any determination of topography or contours, or depiction of physical improvements, utilizing photogrammetric methods or similar remote sensing technology by persons not licensed as a land surveyor pursuant to ยง 54.1-406 shall not show any property monumentation or property metes and bounds, nor provide any measurement showing the relationship of any physical improvements to any property line or boundary. Any person not licensed pursuant to subsection B of ยง 54.1-404 or 54.1-406 preparing documentation pursuant to subsection C of ยง 54.1-402 shall note the following on such documentation: "Any determination of topography or contours, or any depiction of physical improvements, property lines or boundaries is for general information only and shall not be used for the design, modification, or construction of improvements to real property or for flood plain determination." Image service is intended for teaching purposes and should not be relied upon for other purposes.
Single Fused Map Cache: false
Extent:
XMin: 11992500
YMin: 3617500
XMax: 12067500
YMax: 3632500
Spatial Reference: 2925
(2925)
Initial Extent:
XMin: 11992500
YMin: 3617500
XMax: 12067500
YMax: 3632500
Spatial Reference: 2925
(2925)
Full Extent:
XMin: 11992500
YMin: 3617500
XMax: 12067500
YMax: 3632500
Spatial Reference: 2925
(2925)
Pixel Size X: 0.5
Pixel Size Y: 0.5
Band Count: 4
Pixel Type: U8
RasterFunction Infos: {"rasterFunctionInfos": [{
"name": "None",
"description": "",
"help": ""
}]}
Mensuration Capabilities: None
Inspection Capabilities:
Has Histograms: true
Has Colormap: false
Has Multi Dimensions : false
Rendering Rule:
Min Scale: 0
Max Scale: 0
Resampling: false
Copyright Text: Virginia Base Mapping Program (VBMP) Orthoimagery; William & Mary
Service Data Type: esriImageServiceDataTypeGeneric
Min Values: 0, 0, 0, 0
Max Values: 255, 255, 255, 255
Mean Values: 88.24032107998634, 90.92186260000464, 73.0386173200052, 124.94662559999078
Standard Deviation Values: 51.94482728115623, 50.14932949885244, 42.736995701154385, 56.700685562103864
Object ID Field: OBJECTID
Fields:
-
OBJECTID
(
type: esriFieldTypeOID, alias: OBJECTID
)
-
Shape
(
type: esriFieldTypeGeometry, alias: Shape
)
-
Name
(
type: esriFieldTypeString, alias: Name, length: 200
)
-
MinPS
(
type: esriFieldTypeDouble, alias: MinPS
)
-
MaxPS
(
type: esriFieldTypeDouble, alias: MaxPS
)
-
LowPS
(
type: esriFieldTypeDouble, alias: LowPS
)
-
HighPS
(
type: esriFieldTypeDouble, alias: HighPS
)
-
Category
(
type: esriFieldTypeInteger, alias: Category
, Coded Values:
[0: Unknown]
, [1: Primary]
, [2: Overview]
, ...6 more...
)
-
Tag
(
type: esriFieldTypeString, alias: Tag, length: 100
)
-
GroupName
(
type: esriFieldTypeString, alias: GroupName, length: 100
)
-
ProductName
(
type: esriFieldTypeString, alias: ProductName, length: 100
)
-
CenterX
(
type: esriFieldTypeDouble, alias: CenterX
)
-
CenterY
(
type: esriFieldTypeDouble, alias: CenterY
)
-
ZOrder
(
type: esriFieldTypeInteger, alias: ZOrder
)
-
Shape_Length
(
type: esriFieldTypeDouble, alias: Shape_Length
)
-
Shape_Area
(
type: esriFieldTypeDouble, alias: Shape_Area
)
Default Mosaic Method: Northwest
Allowed Mosaic Methods: NorthWest,Center,LockRaster,ByAttribute,Nadir,Viewpoint,Seamline,None
SortField:
SortValue: null
Mosaic Operator: First
Default Compression Quality: 75
Default Resampling Method: Bilinear
Max Record Count: 1000
Max Image Height: 4100
Max Image Width: 15000
Max Download Image Count: 20
Max Mosaic Image Count: 20
Allow Raster Function: true
Allow Copy: true
Allow Analysis: true
Allow Compute TiePoints: false
Supports Statistics: true
Supports Advanced Queries: true
Use StandardizedQueries: true
Raster Type Infos:
Name: Raster Dataset
Description: Supports all ArcGIS Raster Datasets
Help:
Has Raster Attribute Table: false
Edit Fields Info: null
Ownership Based AccessControl For Rasters: null
Child Resources:
Info
Histograms
Statistics
Key Properties
Legend
Raster Function Infos
Supported Operations:
Export Image
Query
Identify
Compute Histograms
Compute Statistics Histograms
Get Samples
Compute Class Statistics
Query GPS Info
Find Images
Image to Map
Map to Image
Measure from Image
Image to Map Multiray
Query Boundary
Compute Pixel Location
Compute Angles
Validate
Project