View In:
ArcGIS JavaScript
ArcGIS Online Map Viewer
ArcGIS Earth
Service Description: Metadata: Identification_Information: Citation: Citation_Information: Originator: USDA-FPAC-BC-APFO Aerial Photography Field Office Title: NAIP Digital Georectified Image Geospatial_Data_Presentation_Form: remote-sensing image Publication_Information: Publication_Place: Salt Lake City, Utah Publisher: USDA-FPAC-BC-APFO Aerial Photography Field Office Time_Period_of_Content: Time_Period_Information: Single_Date/Time: Calendar_Date: 20210912 Currentness_Reference: Ground Condition
Name: GIS410/NAIP_m_3707643_sw_18_060_20210912
Description: Metadata: Identification_Information: Citation: Citation_Information: Originator: USDA-FPAC-BC-APFO Aerial Photography Field Office Title: NAIP Digital Georectified Image Geospatial_Data_Presentation_Form: remote-sensing image Publication_Information: Publication_Place: Salt Lake City, Utah Publisher: USDA-FPAC-BC-APFO Aerial Photography Field Office Time_Period_of_Content: Time_Period_Information: Single_Date/Time: Calendar_Date: 20210912 Currentness_Reference: Ground Condition
Single Fused Map Cache: false
Extent:
XMin: 344497.8
YMin: 4123639.2
XMax: 350809.8
YMax: 4131330.6
Spatial Reference: 26918
(26918)
Initial Extent:
XMin: 344497.8
YMin: 4123639.2
XMax: 350809.8
YMax: 4131330.6
Spatial Reference: 26918
(26918)
Full Extent:
XMin: 344497.8
YMin: 4123639.2
XMax: 350809.8
YMax: 4131330.6
Spatial Reference: 26918
(26918)
Pixel Size X: 0.6
Pixel Size Y: 0.5999999999999928
Band Count: 4
Pixel Type: U8
RasterFunction Infos: {"rasterFunctionInfos": [{
"name": "None",
"description": "",
"help": ""
}]}
Mensuration Capabilities: Basic
Inspection Capabilities:
Has Histograms: true
Has Colormap: false
Has Multi Dimensions : false
Rendering Rule:
Min Scale: 0
Max Scale: 0
Copyright Text: United States Department of Agriculture (USDA) National Agriculture Imagery Program (NAIP)
Service Data Type: esriImageServiceDataTypeGeneric
Min Values: 22, 30, 28, 13
Max Values: 255, 255, 255, 255
Mean Values: 95.893633099263, 107.77591714949, 93.111214891066, 113.371984833
Standard Deviation Values: 34.844089259001, 33.68341292578, 27.784295457267, 45.854519631554
Object ID Field:
Fields:
None
Default Mosaic Method: Center
Allowed Mosaic Methods:
SortField:
SortValue: null
Mosaic Operator: First
Default Compression Quality: 75
Default Resampling Method: Bilinear
Max Record Count: null
Max Image Height: 4100
Max Image Width: 15000
Max Download Image Count: null
Max Mosaic Image Count: null
Allow Raster Function: true
Allow Copy: true
Allow Analysis: true
Allow Compute TiePoints: false
Supports Statistics: false
Supports Advanced Queries: false
Use StandardizedQueries: true
Raster Type Infos:
Name: Raster Dataset
Description: Supports all ArcGIS Raster Datasets
Help:
Has Raster Attribute Table: false
Edit Fields Info: null
Ownership Based AccessControl For Rasters: null
Child Resources:
Info
Histograms
Statistics
Key Properties
Legend
Raster Function Infos
Supported Operations:
Export Image
Identify
Measure
Compute Histograms
Compute Statistics Histograms
Get Samples
Compute Class Statistics
Query Boundary
Compute Pixel Location
Compute Angles
Validate
Project