View In:
ArcGIS JavaScript
ArcGIS Online Map Viewer
ArcGIS Earth
Service Description: The National Agriculture Imagery Program (NAIP) acquires aerial imagery during the agricultural growing seasons in the continental U.S. A primary goal of the NAIP program is to make digital ortho photography available to governmental agencies and the public within a year of acquisition. USDA-FPAC-BC-APFO Aerial Photography Field Office Title: NAIP Digital Georectified Image Calendar_Date: 20211010 Currentness_Reference: Ground Condition
Name: GIS410/NAIP_m_3707643_sw_18_060_20231010
Description: The National Agriculture Imagery Program (NAIP) acquires aerial imagery during the agricultural growing seasons in the continental U.S. A primary goal of the NAIP program is to make digital ortho photography available to governmental agencies and the public within a year of acquisition. USDA-FPAC-BC-APFO Aerial Photography Field Office Title: NAIP Digital Georectified Image Calendar_Date: 20211010 Currentness_Reference: Ground Condition
Single Fused Map Cache: false
Extent:
XMin: 344598
YMin: 4123740
XMax: 350664
YMax: 4131174
Spatial Reference: 26918
(26918)
Initial Extent:
XMin: 344598
YMin: 4123740
XMax: 350664
YMax: 4131174
Spatial Reference: 26918
(26918)
Full Extent:
XMin: 344598
YMin: 4123740
XMax: 350664
YMax: 4131174
Spatial Reference: 26918
(26918)
Pixel Size X: 0.6
Pixel Size Y: 0.6
Band Count: 4
Pixel Type: U8
RasterFunction Infos: {"rasterFunctionInfos": [{
"name": "None",
"description": "",
"help": ""
}]}
Mensuration Capabilities: Basic
Inspection Capabilities:
Has Histograms: true
Has Colormap: false
Has Multi Dimensions : false
Rendering Rule:
Min Scale: 0
Max Scale: 0
Resampling: false
Copyright Text: United States Department of Agriculture (USDA) National Agriculture Imagery Program (NAIP)
Service Data Type: esriImageServiceDataTypeGeneric
Min Values: 1, 20, 3, 1
Max Values: 255, 255, 255, 250
Mean Values: 106.06781719088, 115.65020103321, 105.14575707574, 168.95643603978
Standard Deviation Values: 48.226319686705, 44.827626232391, 35.287547365451, 49.036013035509
Object ID Field:
Fields:
None
Default Mosaic Method: Center
Allowed Mosaic Methods:
SortField:
SortValue: null
Mosaic Operator: First
Default Compression Quality: 75
Default Resampling Method: Bilinear
Max Record Count: null
Max Image Height: 4100
Max Image Width: 15000
Max Download Image Count: null
Max Mosaic Image Count: null
Allow Raster Function: true
Allow Copy: true
Allow Analysis: true
Allow Compute TiePoints: false
Supports Statistics: false
Supports Advanced Queries: false
Use StandardizedQueries: true
Raster Type Infos:
Name: Raster Dataset
Description: Supports all ArcGIS Raster Datasets
Help:
Has Raster Attribute Table: false
Edit Fields Info: null
Ownership Based AccessControl For Rasters: null
Child Resources:
Info
Histograms
Statistics
Key Properties
Legend
Raster Function Infos
Supported Operations:
Export Image
Identify
Measure
Compute Histograms
Compute Statistics Histograms
Get Samples
Compute Class Statistics
Query Boundary
Compute Pixel Location
Compute Angles
Validate
Project